BEGIN:VCALENDAR
VERSION:2.0
PRODID:-//jEvents 2.0 for Joomla//EN
CALSCALE:GREGORIAN
METHOD:PUBLISH
BEGIN:VTIMEZONE
TZID:Europe/Berlin
BEGIN:STANDARD
DTSTART:20181129T000000
RDATE:20190331T030000
TZOFFSETFROM:+0200
TZOFFSETTO:+0100
TZNAME:Europe/Berlin CET
END:STANDARD
BEGIN:STANDARD
DTSTART:20191027T020000
RDATE:20200329T030000
TZOFFSETFROM:+0200
TZOFFSETTO:+0100
TZNAME:Europe/Berlin CET
END:STANDARD
BEGIN:STANDARD
DTSTART:20201025T020000
RDATE:20210328T030000
TZOFFSETFROM:+0200
TZOFFSETTO:+0100
TZNAME:Europe/Berlin CET
END:STANDARD
BEGIN:STANDARD
DTSTART:20211031T020000
RDATE:20220327T030000
TZOFFSETFROM:+0200
TZOFFSETTO:+0100
TZNAME:Europe/Berlin CET
END:STANDARD
BEGIN:STANDARD
DTSTART:20221030T020000
RDATE:20230326T030000
TZOFFSETFROM:+0200
TZOFFSETTO:+0100
TZNAME:Europe/Berlin CET
END:STANDARD
BEGIN:STANDARD
DTSTART:20231029T020000
RDATE:20240331T030000
TZOFFSETFROM:+0200
TZOFFSETTO:+0100
TZNAME:Europe/Berlin CET
END:STANDARD
BEGIN:STANDARD
DTSTART:20241027T020000
RDATE:20250330T030000
TZOFFSETFROM:+0200
TZOFFSETTO:+0100
TZNAME:Europe/Berlin CET
END:STANDARD
BEGIN:STANDARD
DTSTART:20251026T020000
RDATE:20260329T030000
TZOFFSETFROM:+0200
TZOFFSETTO:+0100
TZNAME:Europe/Berlin CET
END:STANDARD
BEGIN:STANDARD
DTSTART:20261025T020000
RDATE:20270328T030000
TZOFFSETFROM:+0200
TZOFFSETTO:+0100
TZNAME:Europe/Berlin CET
END:STANDARD
BEGIN:STANDARD
DTSTART:20271031T020000
RDATE:20280326T030000
TZOFFSETFROM:+0200
TZOFFSETTO:+0100
TZNAME:Europe/Berlin CET
END:STANDARD
BEGIN:STANDARD
DTSTART:20281029T020000
RDATE:20290325T030000
TZOFFSETFROM:+0200
TZOFFSETTO:+0100
TZNAME:Europe/Berlin CET
END:STANDARD
BEGIN:STANDARD
DTSTART:20291028T020000
RDATE:20300331T030000
TZOFFSETFROM:+0200
TZOFFSETTO:+0100
TZNAME:Europe/Berlin CET
END:STANDARD
BEGIN:STANDARD
DTSTART:20301027T020000
RDATE:20310330T030000
TZOFFSETFROM:+0200
TZOFFSETTO:+0100
TZNAME:Europe/Berlin CET
END:STANDARD
BEGIN:STANDARD
DTSTART:20311026T020000
RDATE:20320328T030000
TZOFFSETFROM:+0200
TZOFFSETTO:+0100
TZNAME:Europe/Berlin CET
END:STANDARD
BEGIN:DAYLIGHT
DTSTART:20190331T030000
RDATE:20191027T020000
TZOFFSETFROM:+0100
TZOFFSETTO:+0200
TZNAME:Europe/Berlin CEST
END:DAYLIGHT
BEGIN:DAYLIGHT
DTSTART:20200329T030000
RDATE:20201025T020000
TZOFFSETFROM:+0100
TZOFFSETTO:+0200
TZNAME:Europe/Berlin CEST
END:DAYLIGHT
BEGIN:DAYLIGHT
DTSTART:20210328T030000
RDATE:20211031T020000
TZOFFSETFROM:+0100
TZOFFSETTO:+0200
TZNAME:Europe/Berlin CEST
END:DAYLIGHT
BEGIN:DAYLIGHT
DTSTART:20220327T030000
RDATE:20221030T020000
TZOFFSETFROM:+0100
TZOFFSETTO:+0200
TZNAME:Europe/Berlin CEST
END:DAYLIGHT
BEGIN:DAYLIGHT
DTSTART:20230326T030000
RDATE:20231029T020000
TZOFFSETFROM:+0100
TZOFFSETTO:+0200
TZNAME:Europe/Berlin CEST
END:DAYLIGHT
BEGIN:DAYLIGHT
DTSTART:20240331T030000
RDATE:20241027T020000
TZOFFSETFROM:+0100
TZOFFSETTO:+0200
TZNAME:Europe/Berlin CEST
END:DAYLIGHT
BEGIN:DAYLIGHT
DTSTART:20250330T030000
RDATE:20251026T020000
TZOFFSETFROM:+0100
TZOFFSETTO:+0200
TZNAME:Europe/Berlin CEST
END:DAYLIGHT
BEGIN:DAYLIGHT
DTSTART:20260329T030000
RDATE:20261025T020000
TZOFFSETFROM:+0100
TZOFFSETTO:+0200
TZNAME:Europe/Berlin CEST
END:DAYLIGHT
BEGIN:DAYLIGHT
DTSTART:20270328T030000
RDATE:20271031T020000
TZOFFSETFROM:+0100
TZOFFSETTO:+0200
TZNAME:Europe/Berlin CEST
END:DAYLIGHT
BEGIN:DAYLIGHT
DTSTART:20280326T030000
RDATE:20281029T020000
TZOFFSETFROM:+0100
TZOFFSETTO:+0200
TZNAME:Europe/Berlin CEST
END:DAYLIGHT
BEGIN:DAYLIGHT
DTSTART:20290325T030000
RDATE:20291028T020000
TZOFFSETFROM:+0100
TZOFFSETTO:+0200
TZNAME:Europe/Berlin CEST
END:DAYLIGHT
BEGIN:DAYLIGHT
DTSTART:20300331T030000
RDATE:20301027T020000
TZOFFSETFROM:+0100
TZOFFSETTO:+0200
TZNAME:Europe/Berlin CEST
END:DAYLIGHT
BEGIN:DAYLIGHT
DTSTART:20310330T030000
RDATE:20311026T020000
TZOFFSETFROM:+0100
TZOFFSETTO:+0200
TZNAME:Europe/Berlin CEST
END:DAYLIGHT
END:VTIMEZONE
BEGIN:VEVENT
UID:be5fdc06740c7d428c70d83b7816e940
CATEGORIES:Permanent Make-up
CREATED:20190114T204301
SUMMARY:Permanent Make-up (6-Tage-Schulung)
DESCRIPTION;ENCODING=QUOTED-PRINTABLE:<h3>Kursbeschreibung</h3><p>Diese 6-Tage-Schulung bietet eine komplette und
  professionelle Ausbildung im Bereich Permanent Make-up und richtet sich an
  Fortgeschrittene. Die Schulung umfasst eine ausführliche theoretische Einf
 ührung in die verschiedenen Permanent Make-up Bereiche sowie direkte prakti
 sche Übungen am Modell. Somit steht dem Start in die eigene Geschäftstätigk
 eit nichts mehr im Wege.</p><h3>Kursinhalte</h3><p> </p><p>1. Einleitung un
 d Grundlagen<br />    •  Begrüßung, Kennenlernen, Wunschvorstellungen<br />
     •  Kundengespräch und Kundenvereinbarungen<br />    •  Gestaltung eines
  Permanent Make-up Infoabends<br />    •  Richtlinien zu Dermatologie und H
 ygiene<br />    •  Haftung, Haftpflicht und Versicherungen<br />    •  Prei
 sgestaltung und Rentabilität<br />    •  Einführung in die unterschiedliche
 n Pigmente<br /><br />2. Augenbrauen<br />    •  Pigmentieren am Übungskopf
  und am Modell<br />    •  Möglichkeiten oberflächlicher Anästhesie<br />  
   •  drei Techniken des Augenbrauen-Permanent-Make-ups<br /><br />3. Lidstr
 ich<br />    •  Pigmentieren am Modell, auch mit der Mehrfachnadel<br />   
  •  spezielle Probleme (bspw. Schlupflider)<br />    •  Lid- und Kajalzeich
 nung für Innenlider<br /><br />4. Lippenkontur<br />    •  Pigmentieren am 
 Modell<br />    •  Lippenteilzeichnung und -vollzeichnung<br />    •  Vorst
 ellung unterschiedlicher Techniken<br /><br />5. Nachbehandlung der Lippen<
 br />    •  Schönheitspunkt setzen<br /><br />6. Make-up Schulung<br />    
 •  kunstvolles und korrektes Vorzeichnen<br />    •  Farblehre nach Prof. I
 tten, Schweiz<br /><br />7. Permanent Make-up Präsentationsmappe<br />    •
   werbewirksame Darstellung durchgeführter Arbeiten<br /><br />Voraussetzun
 g: Gute Kenntnisse im Bereich Visagistik<br /><br />Dauer: 6 Tage<br />Prei
 s: 1.980,00 € zzgl. MwSt.</p>
DTSTAMP:20260421T034027Z
DTSTART;TZID=Europe/Berlin;VALUE=DATE:20191130
DTEND;TZID=Europe/Berlin;VALUE=DATE:20191206
SEQUENCE:0
TRANSP:OPAQUE
END:VEVENT
END:VCALENDAR